BEGIN:VCALENDAR
VERSION:2.0
PRODID:-//Thrive - ECPv6.15.20//NONSGML v1.0//EN
CALSCALE:GREGORIAN
METHOD:PUBLISH
X-WR-CALNAME:Thrive
X-ORIGINAL-URL:https://thrivecos.com
X-WR-CALDESC:Events for Thrive
REFRESH-INTERVAL;VALUE=DURATION:PT1H
X-Robots-Tag:noindex
X-PUBLISHED-TTL:PT1H
BEGIN:VTIMEZONE
TZID:America/New_York
BEGIN:DAYLIGHT
TZOFFSETFROM:-0500
TZOFFSETTO:-0400
TZNAME:EDT
DTSTART:20250309T070000
END:DAYLIGHT
BEGIN:STANDARD
TZOFFSETFROM:-0400
TZOFFSETTO:-0500
TZNAME:EST
DTSTART:20251102T060000
END:STANDARD
BEGIN:DAYLIGHT
TZOFFSETFROM:-0500
TZOFFSETTO:-0400
TZNAME:EDT
DTSTART:20260308T070000
END:DAYLIGHT
BEGIN:STANDARD
TZOFFSETFROM:-0400
TZOFFSETTO:-0500
TZNAME:EST
DTSTART:20261101T060000
END:STANDARD
BEGIN:DAYLIGHT
TZOFFSETFROM:-0500
TZOFFSETTO:-0400
TZNAME:EDT
DTSTART:20270314T070000
END:DAYLIGHT
BEGIN:STANDARD
TZOFFSETFROM:-0400
TZOFFSETTO:-0500
TZNAME:EST
DTSTART:20271107T060000
END:STANDARD
END:VTIMEZONE
BEGIN:VEVENT
DTSTART;TZID=America/New_York:20260424T160000
DTEND;TZID=America/New_York:20260424T220000
DTSTAMP:20260424T121810
CREATED:20260424T115045Z
LAST-MODIFIED:20260424T115045Z
UID:10000003-1777046400-1777068000@thrivecos.com
SUMMARY:Classic Movies and Cocktails
DESCRIPTION:Just the Classics”: Classic movies and $9 classic cocktails all night long
URL:https://thrivecos.com/event/classic-movies-and-cocktails/
LOCATION:Bada Bean Bada Booze – Quarry Trails\, 1799 Quarry Trce\, Columbus\, OH\, United States
CATEGORIES:Bada Bean Bada Booze,Bada Bean Bada Booze - Quarry Trails,Public,Quarry Trails
ATTACH;FMTTYPE=image/png:https://thrivecos.com/wp-content/uploads/2025/05/TH_BADA_JustTheClassicsWEBSITE_012125_v1A-9QPuPW.png
GEO:39.989519;-83.076258
X-APPLE-STRUCTURED-LOCATION;VALUE=URI;X-ADDRESS=Bada Bean Bada Booze – Quarry Trails 1799 Quarry Trce Columbus OH United States;X-APPLE-RADIUS=500;X-TITLE=1799 Quarry Trce:geo:-83.076258,39.989519
END:VEVENT
BEGIN:VEVENT
DTSTART;TZID=America/New_York:20260424T160000
DTEND;TZID=America/New_York:20260424T220000
DTSTAMP:20260424T121810
CREATED:20260424T115049Z
LAST-MODIFIED:20260424T115049Z
UID:10000004-1777046400-1777068000@thrivecos.com
SUMMARY:Girl Dinner
DESCRIPTION:$9 Happy Hour Martinis All Night\, Cheers to the weekend with Girl Dinner
URL:https://thrivecos.com/event/girl-dinner/
LOCATION:Bada Bean Bada Booze – Italian Village\, 501 W 1st Ave\, Columbus\, OH\, United States
CATEGORIES:Bada Bean Bada Booze,Bada Bean Bada Booze - Italian Village,Jeffrey Park,Public
ATTACH;FMTTYPE=image/png:https://thrivecos.com/wp-content/uploads/2025/05/TH_BADA_GirlDinnerWEBSITE_012125_v1A-IS3BBf.png
GEO:39.980671;-83.017938
X-APPLE-STRUCTURED-LOCATION;VALUE=URI;X-ADDRESS=Bada Bean Bada Booze – Italian Village 501 W 1st Ave Columbus OH United States;X-APPLE-RADIUS=500;X-TITLE=501 W 1st Ave:geo:-83.017938,39.980671
END:VEVENT
BEGIN:VEVENT
DTSTART;TZID=America/New_York:20260425T120000
DTEND;TZID=America/New_York:20260425T140000
DTSTAMP:20260424T121810
CREATED:20260424T121827Z
LAST-MODIFIED:20260424T121827Z
UID:10000072-1777118400-1777125600@thrivecos.com
SUMMARY:OSU Architecture LGReservation  (Confirmed)
DESCRIPTION:Group Size: 30\nStaff Beo: https://api.perfectvenue.com/pdfs/3pmW8JIq4sc/staff_beo.pdf\nNotes:
URL:https://thrivecos.com/event/osu-architecture-lgreservation-confirmed/
LOCATION:Thrive Events\, Columbus\, OH\, United States
CATEGORIES:Perfect Venue,Private,Thrive Events
END:VEVENT
BEGIN:VEVENT
DTSTART;TZID=America/New_York:20260427T180000
DTEND;TZID=America/New_York:20260427T220000
DTSTAMP:20260424T121810
CREATED:20260424T115320Z
LAST-MODIFIED:20260424T115320Z
UID:10000033-1777312800-1777327200@thrivecos.com
SUMMARY:Industry Night
DESCRIPTION:Join us every Monday at The Little Grand for Industry Night\, a weekly event built around a special beverage menu designed to let you drink like your favorite bartender.\nThe menu features classic boilermakers\, bartender-favorite cocktails\, and two rotating shot selections each week—one sweet and one bitter—so there’s always something new to try.\nWhether you work in the service industry or just appreciate a well-made drink at a great price\, Monday nights at The Little Grand are all about good pours\, good company\, and an easy start to the week.
URL:https://thrivecos.com/event/industry-night/
LOCATION:The Little Grand Market\, 710 Grandview Ave\, Columbus\, OH\, United States
CATEGORIES:Grandview Crossing,Public,The Little Grand Market
ATTACH;FMTTYPE=image/jpeg:https://thrivecos.com/wp-content/uploads/2025/05/Industry-Night-ExJdH0.jpg
GEO:39.972364;-83.045714
X-APPLE-STRUCTURED-LOCATION;VALUE=URI;X-ADDRESS=The Little Grand Market 710 Grandview Ave Columbus OH United States;X-APPLE-RADIUS=500;X-TITLE=710 Grandview Ave:geo:-83.045714,39.972364
END:VEVENT
BEGIN:VEVENT
DTSTART;TZID=America/New_York:20260427T190000
DTEND;TZID=America/New_York:20260427T210000
DTSTAMP:20260424T121810
CREATED:20260424T115101Z
LAST-MODIFIED:20260424T115101Z
UID:10000005-1777316400-1777323600@thrivecos.com
SUMMARY:Trivia Night at Quarry Trails
DESCRIPTION:Bring your crew and your brainpower to our new weekly trivia at Quarry Trails. Fast-paced rounds\, pop-culture to deep cuts\, and prizes for the top teams. It’s free to play\, team-friendly\, and perfect for a midweek hang.\nSettle in with lattes\, cocktails\, and snacks from the bar while you compete. Walk in\, grab a table\, and game on.\nFREE TO PLAY
URL:https://thrivecos.com/event/trivia-night-at-quarry-trails/
LOCATION:Bada Bean Bada Booze – Quarry Trails\, 1799 Quarry Trce\, Columbus\, OH\, United States
CATEGORIES:Bada Bean Bada Booze,Bada Bean Bada Booze - Quarry Trails,Public,Quarry Trails,Trivia
ATTACH;FMTTYPE=image/jpeg:https://thrivecos.com/wp-content/uploads/2025/05/QT_TRIVIA-WEBSITE-GRAP-1-XlqSrf.jpg
GEO:39.989519;-83.076258
X-APPLE-STRUCTURED-LOCATION;VALUE=URI;X-ADDRESS=Bada Bean Bada Booze – Quarry Trails 1799 Quarry Trce Columbus OH United States;X-APPLE-RADIUS=500;X-TITLE=1799 Quarry Trce:geo:-83.076258,39.989519
END:VEVENT
BEGIN:VEVENT
DTSTART;TZID=America/New_York:20260428T173000
DTEND;TZID=America/New_York:20260428T210000
DTSTAMP:20260424T121810
CREATED:20260424T115324Z
LAST-MODIFIED:20260424T115324Z
UID:10000034-1777397400-1777410000@thrivecos.com
SUMMARY:Beers and Board Games
DESCRIPTION:Looking for something different to do on a Tuesday night in Columbus? Pull up a chair and join us for Board Game Night at The Little Grand\, happening every Tuesday evening from 5:30 to 9 PM.\nHosted in partnership with the community group Beers and Board Games\, this weekly gathering brings together players of all skill levels to explore new games\, meet new people\, and enjoy a relaxed night out.\nWhat to Expect\nEach week\, the Beers and Board Games crew brings a rotating collection of games for guests to try. Whether you’re a longtime tabletop fan or someone who has only played the classics\, there is always something new to learn.\nGames typically range from quick social games to deeper strategy titles\, and experienced players are always around to help teach the rules and get new groups started.\nYou can drop in solo\, bring a group of friends\, or join a table that’s forming. The goal is simple: great games\, good conversation\, and a fun weeknight atmosphere.\nFood\, Drinks\, and Game Night Energy\nBoard Game Night takes place inside The Little Grand Market\, so while the games are rolling you can grab dinner\, snacks\, or drinks from the market’s vendors and bars.\nExpect options ranging from:\n• craft beer and cocktails• pizza\, tacos\, and chef-driven food• snacks and desserts to fuel your next victory\nIt’s the perfect setup for a casual Tuesday night where you can stay for one game or settle in for the whole evening.\nNew to Board Games? No Problem.\nYou do not need to bring a game or know how to play ahead of time. The Beers and Board Games group brings plenty of games and regularly helps newcomers learn.\nIt’s one of the easiest ways to meet people in Columbus while trying something new.\nLearn More at https://beersandboardgames.com/
URL:https://thrivecos.com/event/beers-and-board-games/
LOCATION:The Little Grand
CATEGORIES:Grandview Crossing,Public,The Little Grand,The Little Grand Market
ATTACH;FMTTYPE=image/jpeg:https://thrivecos.com/wp-content/uploads/2025/05/board-game-yCkNaX.jpg
END:VEVENT
BEGIN:VEVENT
DTSTART;TZID=America/New_York:20260428T180000
DTEND;TZID=America/New_York:20260428T200000
DTSTAMP:20260424T121810
CREATED:20260424T115105Z
LAST-MODIFIED:20260424T115105Z
UID:10000006-1777399200-1777406400@thrivecos.com
SUMMARY:Trivia Twoozeday
DESCRIPTION:Trivia Twoozeday! Show up early and take advantage of our great Happy Hour specials. Consider it as a lubricant for the brain. Trivia starts at 6pm until 8pm!
URL:https://thrivecos.com/event/trivia-twoozeday/
LOCATION:Bada Bean Bada Booze – Italian Village\, 501 W 1st Ave\, Columbus\, OH\, United States
CATEGORIES:Bada Bean Bada Booze,Bada Bean Bada Booze - Italian Village,Jeffrey Park,Public
ATTACH;FMTTYPE=image/png:https://thrivecos.com/wp-content/uploads/2025/05/TH_BADA_TriviaWebsiteGraphic1080x1080_041525_v3A-1-whwdOI.png
GEO:39.980671;-83.017938
X-APPLE-STRUCTURED-LOCATION;VALUE=URI;X-ADDRESS=Bada Bean Bada Booze – Italian Village 501 W 1st Ave Columbus OH United States;X-APPLE-RADIUS=500;X-TITLE=501 W 1st Ave:geo:-83.017938,39.980671
END:VEVENT
BEGIN:VEVENT
DTSTART;TZID=America/New_York:20260428T180000
DTEND;TZID=America/New_York:20260428T200000
DTSTAMP:20260424T121810
CREATED:20260424T121827Z
LAST-MODIFIED:20260424T121827Z
UID:10000073-1777399200-1777406400@thrivecos.com
SUMMARY:2026 APPFA Spring Conference Event (Confirmed)
DESCRIPTION:Space: The Little Grand – Event Space\nGroup Size: 72\nStaff Beo: https://api.perfectvenue.com/pdfs/QhDOCBqi1y8/staff_beo.pdf\nNotes:\nMEAL VOUCHER = GIFT CARD \n72 $25 Gift Cards needed\n \nFrascati: $250
URL:https://thrivecos.com/event/2026-appfa-spring-conference-event-confirmed/
LOCATION:Thrive Events\, Columbus\, OH\, United States
CATEGORIES:Perfect Venue,Private,Thrive Events
END:VEVENT
BEGIN:VEVENT
DTSTART;TZID=America/New_York:20260429T160000
DTEND;TZID=America/New_York:20260429T220000
DTSTAMP:20260424T121810
CREATED:20260424T115110Z
LAST-MODIFIED:20260424T115110Z
UID:10000007-1777478400-1777500000@thrivecos.com
SUMMARY:Cosmos & Crafts
DESCRIPTION:Bring out your craft supplies\, creativity\, and inner Carrie Bradshaw! Join us for Crafts & Cosmos – you bring the craft; we’ll bring the (happy-hour priced $9) cosmos.
URL:https://thrivecos.com/event/cosmos-crafts/
LOCATION:Bada Bean Bada Booze – Quarry Trails\, 1799 Quarry Trce\, Columbus\, OH\, United States
CATEGORIES:Bada Bean Bada Booze,Bada Bean Bada Booze - Quarry Trails,Public,Quarry Trails
ATTACH;FMTTYPE=image/png:https://thrivecos.com/wp-content/uploads/2025/05/TH_BADA_CraftsCosmosWEBSITE_012125_v1A-RkAwSa.png
GEO:39.989519;-83.076258
X-APPLE-STRUCTURED-LOCATION;VALUE=URI;X-ADDRESS=Bada Bean Bada Booze – Quarry Trails 1799 Quarry Trce Columbus OH United States;X-APPLE-RADIUS=500;X-TITLE=1799 Quarry Trce:geo:-83.076258,39.989519
END:VEVENT
BEGIN:VEVENT
DTSTART;TZID=America/New_York:20260429T160000
DTEND;TZID=America/New_York:20260429T220000
DTSTAMP:20260424T121810
CREATED:20260424T115115Z
LAST-MODIFIED:20260424T115115Z
UID:10000008-1777478400-1777500000@thrivecos.com
SUMMARY:Wine Down Wednesdays
DESCRIPTION:Wine Down Wednesdays: Relax with R&B Music & Happy Hour Wine Pours all night
URL:https://thrivecos.com/event/wine-down-wednesdays/
LOCATION:Bada Bean Bada Booze – Italian Village\, 501 W 1st Ave\, Columbus\, OH\, United States
CATEGORIES:Bada Bean Bada Booze,Bada Bean Bada Booze - Italian Village,Jeffrey Park,Public
ATTACH;FMTTYPE=image/png:https://thrivecos.com/wp-content/uploads/2025/05/TH_BADA_WineDownWednesdaysWEBSITE_012125_v1A-naQ3F3.png
GEO:39.980671;-83.017938
X-APPLE-STRUCTURED-LOCATION;VALUE=URI;X-ADDRESS=Bada Bean Bada Booze – Italian Village 501 W 1st Ave Columbus OH United States;X-APPLE-RADIUS=500;X-TITLE=501 W 1st Ave:geo:-83.017938,39.980671
END:VEVENT
BEGIN:VEVENT
DTSTART;TZID=America/New_York:20260430T173000
DTEND;TZID=America/New_York:20260430T200000
DTSTAMP:20260424T121810
CREATED:20260424T121828Z
LAST-MODIFIED:20260424T121828Z
UID:10000074-1777570200-1777579200@thrivecos.com
SUMMARY:American Dream at The Little Grand (Confirmed)
DESCRIPTION:Space: The Little Grand – Event Space\nGroup Size: 100\nStaff Beo: https://api.perfectvenue.com/pdfs/zsLwQJULoFo/staff_beo.pdf\nNotes:\nFrascati: $750
URL:https://thrivecos.com/event/american-dream-at-the-little-grand-confirmed/
LOCATION:The Little Grand – Event Space
CATEGORIES:Grandview Crossing,Perfect Venue,Private,The Little Grand - Event Space,The Little Grand Market
END:VEVENT
BEGIN:VEVENT
DTSTART;TZID=America/New_York:20260430T190000
DTEND;TZID=America/New_York:20260430T210000
DTSTAMP:20260424T121810
CREATED:20260424T115131Z
LAST-MODIFIED:20260424T115131Z
UID:10000032-1777575600-1777582800@thrivecos.com
SUMMARY:Off The Record: Jazz Night at the Quarry
DESCRIPTION:Introducing Off the Record—a new Thursday tradition at our Quarry Trails location.Join us weekly from 7–9 PM for intimate live jazz sessions\, curated cocktails\, and chill night-out energy.\n$25 bottles of select wines!\nonly on Thursdays during bar hours (4-10 PM)
URL:https://thrivecos.com/event/off-the-record-jazz-night-at-the-quarry/
LOCATION:Bada Bean Bada Booze – Quarry Trails\, 1799 Quarry Trce\, Columbus\, OH\, United States
CATEGORIES:Bada Bean Bada Booze,Bada Bean Bada Booze - Quarry Trails,Public,Quarry Trails
ATTACH;FMTTYPE=image/png:https://thrivecos.com/wp-content/uploads/2025/05/TH_BADA_OffTheRecordWEBSITEGRAPHIC_042225_v4A-Q8hI7u-scaled.png
GEO:39.989519;-83.076258
X-APPLE-STRUCTURED-LOCATION;VALUE=URI;X-ADDRESS=Bada Bean Bada Booze – Quarry Trails 1799 Quarry Trce Columbus OH United States;X-APPLE-RADIUS=500;X-TITLE=1799 Quarry Trce:geo:-83.076258,39.989519
END:VEVENT
END:VCALENDAR